BEGIN:VCALENDAR
VERSION:2.0
PRODID:https://www.kufer.de/kuferweb / DE
METHOD:PUBLISH
CALSCALE:GREGORIAN
X-WR-TIMEZONE:Europe/Berlin
BEGIN:VTIMEZONE
TZID:Europe/Berlin
X-LIC-LOCATION:Europe/Berlin
BEGIN:DAYLIGHT
TZOFFSETFROM:+0100
TZOFFSETTO:+0200
TZNAME:CEST
DTSTART:19700329T020000
RRULE:FREQ=YEARLY;INTERVAL=1;BYDAY=-1SU;BYMONTH=3
END:DAYLIGHT
BEGIN:STANDARD
TZOFFSETFROM:+0200
TZOFFSETTO:+0100
TZNAME:CET
DTSTART:19701025T030000
RRULE:FREQ=YEARLY;INTERVAL=1;BYDAY=-1SU;BYMONTH=10
END:STANDARD
END:VTIMEZONE
BEGIN:VEVENT
DTSTAMP:20260424T112252
DTSTART;TZID=Europe/Berlin:20260114T100000
DTEND;TZID=Europe/Berlin:20260114T110000
UID:Y5208-20260114T100000@VHSRATINGEN
SUMMARY:Osteopathie trifft Qigong - Körperausrichtung (Y5208) 
LOCATION:VHS Minoritenkloster, 106, Lintorfer Str. 3, 40878 Ratingen
END:VEVENT
BEGIN:VEVENT
DTSTAMP:20260424T112252
DTSTART;TZID=Europe/Berlin:20260121T100000
DTEND;TZID=Europe/Berlin:20260121T110000
UID:Y5208-20260121T100000@VHSRATINGEN
SUMMARY:Osteopathie trifft Qigong - Körperausrichtung (Y5208) 
LOCATION:VHS Minoritenkloster, 106, Lintorfer Str. 3, 40878 Ratingen
END:VEVENT
BEGIN:VEVENT
DTSTAMP:20260424T112252
DTSTART;TZID=Europe/Berlin:20260128T100000
DTEND;TZID=Europe/Berlin:20260128T110000
UID:Y5208-20260128T100000@VHSRATINGEN
SUMMARY:Osteopathie trifft Qigong - Körperausrichtung (Y5208) 
LOCATION:VHS Minoritenkloster, 106, Lintorfer Str. 3, 40878 Ratingen
END:VEVENT
BEGIN:VEVENT
DTSTAMP:20260424T112252
DTSTART;TZID=Europe/Berlin:20260204T100000
DTEND;TZID=Europe/Berlin:20260204T110000
UID:Y5208-20260204T100000@VHSRATINGEN
SUMMARY:Osteopathie trifft Qigong - Körperausrichtung (Y5208) 
LOCATION:VHS Minoritenkloster, 106, Lintorfer Str. 3, 40878 Ratingen
END:VEVENT
BEGIN:VEVENT
DTSTAMP:20260424T112252
DTSTART;TZID=Europe/Berlin:20260211T100000
DTEND;TZID=Europe/Berlin:20260211T110000
UID:Y5208-20260211T100000@VHSRATINGEN
SUMMARY:Osteopathie trifft Qigong - Körperausrichtung (Y5208) 
LOCATION:VHS Minoritenkloster, 106, Lintorfer Str. 3, 40878 Ratingen
END:VEVENT
BEGIN:VEVENT
DTSTAMP:20260424T112252
DTSTART;TZID=Europe/Berlin:20260218T100000
DTEND;TZID=Europe/Berlin:20260218T110000
UID:Y5208-20260218T100000@VHSRATINGEN
SUMMARY:Osteopathie trifft Qigong - Körperausrichtung (Y5208) 
LOCATION:VHS Minoritenkloster, 106, Lintorfer Str. 3, 40878 Ratingen
END:VEVENT
BEGIN:VEVENT
DTSTAMP:20260424T112252
DTSTART;TZID=Europe/Berlin:20260225T100000
DTEND;TZID=Europe/Berlin:20260225T110000
UID:Y5208-20260225T100000@VHSRATINGEN
SUMMARY:Osteopathie trifft Qigong - Körperausrichtung (Y5208) 
LOCATION:VHS Minoritenkloster, 106, Lintorfer Str. 3, 40878 Ratingen
END:VEVENT
BEGIN:VEVENT
DTSTAMP:20260424T112252
DTSTART;TZID=Europe/Berlin:20260304T100000
DTEND;TZID=Europe/Berlin:20260304T110000
UID:Y5208-20260304T100000@VHSRATINGEN
SUMMARY:Osteopathie trifft Qigong - Körperausrichtung (Y5208) 
LOCATION:VHS Minoritenkloster, 106, Lintorfer Str. 3, 40878 Ratingen
END:VEVENT
BEGIN:VEVENT
DTSTAMP:20260424T112252
DTSTART;TZID=Europe/Berlin:20260311T100000
DTEND;TZID=Europe/Berlin:20260311T110000
UID:Y5208-20260311T100000@VHSRATINGEN
SUMMARY:Osteopathie trifft Qigong - Körperausrichtung (Y5208) 
LOCATION:VHS Minoritenkloster, 106, Lintorfer Str. 3, 40878 Ratingen
END:VEVENT
BEGIN:VEVENT
DTSTAMP:20260424T112252
DTSTART;TZID=Europe/Berlin:20260415T100000
DTEND;TZID=Europe/Berlin:20260415T110000
UID:Y5208-20260415T100000@VHSRATINGEN
SUMMARY:Osteopathie trifft Qigong - Körperausrichtung (Y5208) 
LOCATION:VHS Minoritenkloster, 106, Lintorfer Str. 3, 40878 Ratingen
END:VEVENT
BEGIN:VEVENT
DTSTAMP:20260424T112252
DTSTART;TZID=Europe/Berlin:20260422T100000
DTEND;TZID=Europe/Berlin:20260422T110000
UID:Y5208-20260422T100000@VHSRATINGEN
SUMMARY:Osteopathie trifft Qigong - Körperausrichtung (Y5208) 
LOCATION:VHS Minoritenkloster, 106, Lintorfer Str. 3, 40878 Ratingen
END:VEVENT
BEGIN:VEVENT
DTSTAMP:20260424T112252
DTSTART;TZID=Europe/Berlin:20260429T100000
DTEND;TZID=Europe/Berlin:20260429T110000
UID:Y5208-20260429T100000@VHSRATINGEN
SUMMARY:Osteopathie trifft Qigong - Körperausrichtung (Y5208) 
LOCATION:VHS Minoritenkloster, 106, Lintorfer Str. 3, 40878 Ratingen
END:VEVENT
BEGIN:VEVENT
DTSTAMP:20260424T112252
DTSTART;TZID=Europe/Berlin:20260506T100000
DTEND;TZID=Europe/Berlin:20260506T110000
UID:Y5208-20260506T100000@VHSRATINGEN
SUMMARY:Osteopathie trifft Qigong - Körperausrichtung (Y5208) 
LOCATION:VHS Minoritenkloster, 106, Lintorfer Str. 3, 40878 Ratingen
END:VEVENT
BEGIN:VEVENT
DTSTAMP:20260424T112252
DTSTART;TZID=Europe/Berlin:20260513T100000
DTEND;TZID=Europe/Berlin:20260513T110000
UID:Y5208-20260513T100000@VHSRATINGEN
SUMMARY:Osteopathie trifft Qigong - Körperausrichtung (Y5208) 
LOCATION:VHS Minoritenkloster, 106, Lintorfer Str. 3, 40878 Ratingen
END:VEVENT
BEGIN:VEVENT
DTSTAMP:20260424T112252
DTSTART;TZID=Europe/Berlin:20260520T100000
DTEND;TZID=Europe/Berlin:20260520T110000
UID:Y5208-20260520T100000@VHSRATINGEN
SUMMARY:Osteopathie trifft Qigong - Körperausrichtung (Y5208) 
LOCATION:VHS Minoritenkloster, 106, Lintorfer Str. 3, 40878 Ratingen
END:VEVENT
BEGIN:VEVENT
DTSTAMP:20260424T112252
DTSTART;TZID=Europe/Berlin:20260527T100000
DTEND;TZID=Europe/Berlin:20260527T110000
UID:Y5208-20260527T100000@VHSRATINGEN
SUMMARY:Osteopathie trifft Qigong - Körperausrichtung (Y5208) 
LOCATION:VHS Minoritenkloster, 106, Lintorfer Str. 3, 40878 Ratingen
END:VEVENT
BEGIN:VEVENT
DTSTAMP:20260424T112252
DTSTART;TZID=Europe/Berlin:20260617T100000
DTEND;TZID=Europe/Berlin:20260617T110000
UID:Y5208-20260617T100000@VHSRATINGEN
SUMMARY:Osteopathie trifft Qigong - Körperausrichtung (Y5208) 
LOCATION:VHS Minoritenkloster, 106, Lintorfer Str. 3, 40878 Ratingen
END:VEVENT
BEGIN:VEVENT
DTSTAMP:20260424T112252
DTSTART;TZID=Europe/Berlin:20260624T100000
DTEND;TZID=Europe/Berlin:20260624T110000
UID:Y5208-20260624T100000@VHSRATINGEN
SUMMARY:Osteopathie trifft Qigong - Körperausrichtung (Y5208) 
LOCATION:VHS Minoritenkloster, 106, Lintorfer Str. 3, 40878 Ratingen
END:VEVENT
BEGIN:VEVENT
DTSTAMP:20260424T112252
DTSTART;TZID=Europe/Berlin:20260701T100000
DTEND;TZID=Europe/Berlin:20260701T110000
UID:Y5208-20260701T100000@VHSRATINGEN
SUMMARY:Osteopathie trifft Qigong - Körperausrichtung (Y5208) 
LOCATION:VHS Minoritenkloster, 106, Lintorfer Str. 3, 40878 Ratingen
END:VEVENT
END:VCALENDAR