BEGIN:VCALENDAR
VERSION:2.0
PRODID:https://www.kufer.de/kuferweb / DE
METHOD:PUBLISH
CALSCALE:GREGORIAN
X-WR-TIMEZONE:Europe/Berlin
BEGIN:VTIMEZONE
TZID:Europe/Berlin
X-LIC-LOCATION:Europe/Berlin
BEGIN:DAYLIGHT
TZOFFSETFROM:+0100
TZOFFSETTO:+0200
TZNAME:CEST
DTSTART:19700329T020000
RRULE:FREQ=YEARLY;INTERVAL=1;BYDAY=-1SU;BYMONTH=3
END:DAYLIGHT
BEGIN:STANDARD
TZOFFSETFROM:+0200
TZOFFSETTO:+0100
TZNAME:CET
DTSTART:19701025T030000
RRULE:FREQ=YEARLY;INTERVAL=1;BYDAY=-1SU;BYMONTH=10
END:STANDARD
END:VTIMEZONE
BEGIN:VEVENT
DTSTAMP:20260424T112124
DTSTART;TZID=Europe/Berlin:20260118T110000
DTEND;TZID=Europe/Berlin:20260118T120000
UID:Y5123-20260118T110000@VHSRATINGEN
SUMMARY:Inside Flow Yoga (Y5123) 
LOCATION:VHS Minoritenkloster, 106, Lintorfer Str. 3, 40878 Ratingen
END:VEVENT
BEGIN:VEVENT
DTSTAMP:20260424T112124
DTSTART;TZID=Europe/Berlin:20260322T110000
DTEND;TZID=Europe/Berlin:20260322T120000
UID:Y5123-20260322T110000@VHSRATINGEN
SUMMARY:Inside Flow Yoga (Y5123) 
LOCATION:VHS Minoritenkloster, 106, Lintorfer Str. 3, 40878 Ratingen
END:VEVENT
BEGIN:VEVENT
DTSTAMP:20260424T112124
DTSTART;TZID=Europe/Berlin:20260510T110000
DTEND;TZID=Europe/Berlin:20260510T120000
UID:Y5123-20260510T110000@VHSRATINGEN
SUMMARY:Inside Flow Yoga (Y5123) 
LOCATION:VHS Minoritenkloster, 106, Lintorfer Str. 3, 40878 Ratingen
END:VEVENT
END:VCALENDAR