BEGIN:VCALENDAR
VERSION:2.0
PRODID:https://www.kufer.de/kuferweb / DE
METHOD:PUBLISH
CALSCALE:GREGORIAN
X-WR-TIMEZONE:Europe/Berlin
BEGIN:VTIMEZONE
TZID:Europe/Berlin
X-LIC-LOCATION:Europe/Berlin
BEGIN:DAYLIGHT
TZOFFSETFROM:+0100
TZOFFSETTO:+0200
TZNAME:CEST
DTSTART:19700329T020000
RRULE:FREQ=YEARLY;INTERVAL=1;BYDAY=-1SU;BYMONTH=3
END:DAYLIGHT
BEGIN:STANDARD
TZOFFSETFROM:+0200
TZOFFSETTO:+0100
TZNAME:CET
DTSTART:19701025T030000
RRULE:FREQ=YEARLY;INTERVAL=1;BYDAY=-1SU;BYMONTH=10
END:STANDARD
END:VTIMEZONE
BEGIN:VEVENT
DTSTAMP:20260424T143946
DTSTART;TZID=Europe/Berlin:20260205T184500
DTEND;TZID=Europe/Berlin:20260205T201500
UID:Y3001-20260205T184500@VHSRATINGEN
SUMMARY:Treffpunkt Politik (Y3001) 
LOCATION:VHS Poststraße, 205, Poststr. 23, 40878 Ratingen
END:VEVENT
BEGIN:VEVENT
DTSTAMP:20260424T143946
DTSTART;TZID=Europe/Berlin:20260219T184500
DTEND;TZID=Europe/Berlin:20260219T201500
UID:Y3001-20260219T184500@VHSRATINGEN
SUMMARY:Treffpunkt Politik (Y3001) 
LOCATION:VHS Poststraße, 205, Poststr. 23, 40878 Ratingen
END:VEVENT
BEGIN:VEVENT
DTSTAMP:20260424T143946
DTSTART;TZID=Europe/Berlin:20260226T184500
DTEND;TZID=Europe/Berlin:20260226T201500
UID:Y3001-20260226T184500@VHSRATINGEN
SUMMARY:Treffpunkt Politik (Y3001) 
LOCATION:VHS Poststraße, 205, Poststr. 23, 40878 Ratingen
END:VEVENT
BEGIN:VEVENT
DTSTAMP:20260424T143946
DTSTART;TZID=Europe/Berlin:20260305T184500
DTEND;TZID=Europe/Berlin:20260305T201500
UID:Y3001-20260305T184500@VHSRATINGEN
SUMMARY:Treffpunkt Politik (Y3001) 
LOCATION:VHS Poststraße, 205, Poststr. 23, 40878 Ratingen
END:VEVENT
BEGIN:VEVENT
DTSTAMP:20260424T143946
DTSTART;TZID=Europe/Berlin:20260312T184500
DTEND;TZID=Europe/Berlin:20260312T201500
UID:Y3001-20260312T184500@VHSRATINGEN
SUMMARY:Treffpunkt Politik (Y3001) 
LOCATION:VHS Poststraße, 205, Poststr. 23, 40878 Ratingen
END:VEVENT
BEGIN:VEVENT
DTSTAMP:20260424T143946
DTSTART;TZID=Europe/Berlin:20260319T184500
DTEND;TZID=Europe/Berlin:20260319T201500
UID:Y3001-20260319T184500@VHSRATINGEN
SUMMARY:Treffpunkt Politik (Y3001) 
LOCATION:VHS Poststraße, 205, Poststr. 23, 40878 Ratingen
END:VEVENT
BEGIN:VEVENT
DTSTAMP:20260424T143946
DTSTART;TZID=Europe/Berlin:20260326T184500
DTEND;TZID=Europe/Berlin:20260326T201500
UID:Y3001-20260326T184500@VHSRATINGEN
SUMMARY:Treffpunkt Politik (Y3001) 
LOCATION:VHS Poststraße, 205, Poststr. 23, 40878 Ratingen
END:VEVENT
BEGIN:VEVENT
DTSTAMP:20260424T143946
DTSTART;TZID=Europe/Berlin:20260416T184500
DTEND;TZID=Europe/Berlin:20260416T201500
UID:Y3001-20260416T184500@VHSRATINGEN
SUMMARY:Treffpunkt Politik (Y3001) 
LOCATION:VHS Poststraße, 205, Poststr. 23, 40878 Ratingen
END:VEVENT
BEGIN:VEVENT
DTSTAMP:20260424T143946
DTSTART;TZID=Europe/Berlin:20260423T184500
DTEND;TZID=Europe/Berlin:20260423T201500
UID:Y3001-20260423T184500@VHSRATINGEN
SUMMARY:Treffpunkt Politik (Y3001) 
LOCATION:VHS Poststraße, 205, Poststr. 23, 40878 Ratingen
END:VEVENT
BEGIN:VEVENT
DTSTAMP:20260424T143946
DTSTART;TZID=Europe/Berlin:20260430T184500
DTEND;TZID=Europe/Berlin:20260430T201500
UID:Y3001-20260430T184500@VHSRATINGEN
SUMMARY:Treffpunkt Politik (Y3001) 
LOCATION:VHS Poststraße, 205, Poststr. 23, 40878 Ratingen
END:VEVENT
BEGIN:VEVENT
DTSTAMP:20260424T143946
DTSTART;TZID=Europe/Berlin:20260507T184500
DTEND;TZID=Europe/Berlin:20260507T201500
UID:Y3001-20260507T184500@VHSRATINGEN
SUMMARY:Treffpunkt Politik (Y3001) 
LOCATION:VHS Poststraße, 205, Poststr. 23, 40878 Ratingen
END:VEVENT
BEGIN:VEVENT
DTSTAMP:20260424T143946
DTSTART;TZID=Europe/Berlin:20260521T184500
DTEND;TZID=Europe/Berlin:20260521T201500
UID:Y3001-20260521T184500@VHSRATINGEN
SUMMARY:Treffpunkt Politik (Y3001) 
LOCATION:VHS Poststraße, 205, Poststr. 23, 40878 Ratingen
END:VEVENT
BEGIN:VEVENT
DTSTAMP:20260424T143946
DTSTART;TZID=Europe/Berlin:20260528T184500
DTEND;TZID=Europe/Berlin:20260528T201500
UID:Y3001-20260528T184500@VHSRATINGEN
SUMMARY:Treffpunkt Politik (Y3001) 
LOCATION:VHS Poststraße, 205, Poststr. 23, 40878 Ratingen
END:VEVENT
BEGIN:VEVENT
DTSTAMP:20260424T143946
DTSTART;TZID=Europe/Berlin:20260611T184500
DTEND;TZID=Europe/Berlin:20260611T201500
UID:Y3001-20260611T184500@VHSRATINGEN
SUMMARY:Treffpunkt Politik (Y3001) 
LOCATION:VHS Poststraße, 205, Poststr. 23, 40878 Ratingen
END:VEVENT
BEGIN:VEVENT
DTSTAMP:20260424T143946
DTSTART;TZID=Europe/Berlin:20260618T184500
DTEND;TZID=Europe/Berlin:20260618T201500
UID:Y3001-20260618T184500@VHSRATINGEN
SUMMARY:Treffpunkt Politik (Y3001) 
LOCATION:VHS Poststraße, 205, Poststr. 23, 40878 Ratingen
END:VEVENT
BEGIN:VEVENT
DTSTAMP:20260424T143946
DTSTART;TZID=Europe/Berlin:20260625T184500
DTEND;TZID=Europe/Berlin:20260625T201500
UID:Y3001-20260625T184500@VHSRATINGEN
SUMMARY:Treffpunkt Politik (Y3001) 
LOCATION:VHS Poststraße, 205, Poststr. 23, 40878 Ratingen
END:VEVENT
BEGIN:VEVENT
DTSTAMP:20260424T143946
DTSTART;TZID=Europe/Berlin:20260702T184500
DTEND;TZID=Europe/Berlin:20260702T201500
UID:Y3001-20260702T184500@VHSRATINGEN
SUMMARY:Treffpunkt Politik (Y3001) 
LOCATION:VHS Poststraße, 205, Poststr. 23, 40878 Ratingen
END:VEVENT
BEGIN:VEVENT
DTSTAMP:20260424T143946
DTSTART;TZID=Europe/Berlin:20260709T184500
DTEND;TZID=Europe/Berlin:20260709T201500
UID:Y3001-20260709T184500@VHSRATINGEN
SUMMARY:Treffpunkt Politik (Y3001) 
LOCATION:VHS Poststraße, 205, Poststr. 23, 40878 Ratingen
END:VEVENT
END:VCALENDAR