BEGIN:VCALENDAR
VERSION:2.0
PRODID:https://www.kufer.de/kuferweb / DE
METHOD:PUBLISH
CALSCALE:GREGORIAN
X-WR-TIMEZONE:Europe/Berlin
BEGIN:VTIMEZONE
TZID:Europe/Berlin
X-LIC-LOCATION:Europe/Berlin
BEGIN:DAYLIGHT
TZOFFSETFROM:+0100
TZOFFSETTO:+0200
TZNAME:CEST
DTSTART:19700329T020000
RRULE:FREQ=YEARLY;INTERVAL=1;BYDAY=-1SU;BYMONTH=3
END:DAYLIGHT
BEGIN:STANDARD
TZOFFSETFROM:+0200
TZOFFSETTO:+0100
TZNAME:CET
DTSTART:19701025T030000
RRULE:FREQ=YEARLY;INTERVAL=1;BYDAY=-1SU;BYMONTH=10
END:STANDARD
END:VTIMEZONE
BEGIN:VEVENT
DTSTAMP:20260426T024626
DTSTART;TZID=Europe/Berlin:20260619T090000
DTEND;TZID=Europe/Berlin:20260619T120000
UID:Y1706-20260619T090000@VHSRATINGEN
SUMMARY:Deutsch-Test für Zuwanderer (Y1706) 
LOCATION:Rathaus, Ratssaal, Minoritenstr. 2-6, 40878 Ratingen
END:VEVENT
BEGIN:VEVENT
DTSTAMP:20260426T024626
DTSTART;TZID=Europe/Berlin:20260619T123000
DTEND;TZID=Europe/Berlin:20260619T180000
UID:Y1706-20260619T123000@VHSRATINGEN
SUMMARY:Deutsch-Test für Zuwanderer (Y1706) 
LOCATION:VHS Minoritenkloster, 109, Lintorfer Str. 3, 40878 Ratingen
END:VEVENT
END:VCALENDAR