BEGIN:VCALENDAR
VERSION:2.0
PRODID:https://www.kufer.de/kuferweb / DE
METHOD:PUBLISH
CALSCALE:GREGORIAN
X-WR-TIMEZONE:Europe/Berlin
BEGIN:VTIMEZONE
TZID:Europe/Berlin
X-LIC-LOCATION:Europe/Berlin
BEGIN:DAYLIGHT
TZOFFSETFROM:+0100
TZOFFSETTO:+0200
TZNAME:CEST
DTSTART:19700329T020000
RRULE:FREQ=YEARLY;INTERVAL=1;BYDAY=-1SU;BYMONTH=3
END:DAYLIGHT
BEGIN:STANDARD
TZOFFSETFROM:+0200
TZOFFSETTO:+0100
TZNAME:CET
DTSTART:19701025T030000
RRULE:FREQ=YEARLY;INTERVAL=1;BYDAY=-1SU;BYMONTH=10
END:STANDARD
END:VTIMEZONE
BEGIN:VEVENT
DTSTAMP:20260423T105141
DTSTART;TZID=Europe/Berlin:20260316T180000
DTEND;TZID=Europe/Berlin:20260316T211500
UID:Y1227D-20260316T180000@VHSRATINGEN
SUMMARY:Alphabetisierungskurs, 4. Modul (Y1227D) 
LOCATION:VHS Poststraße, 208, Poststr. 23, 40878 Ratingen
END:VEVENT
BEGIN:VEVENT
DTSTAMP:20260423T105141
DTSTART;TZID=Europe/Berlin:20260317T180000
DTEND;TZID=Europe/Berlin:20260317T211500
UID:Y1227D-20260317T180000@VHSRATINGEN
SUMMARY:Alphabetisierungskurs, 4. Modul (Y1227D) 
LOCATION:VHS Poststraße, 208, Poststr. 23, 40878 Ratingen
END:VEVENT
BEGIN:VEVENT
DTSTAMP:20260423T105141
DTSTART;TZID=Europe/Berlin:20260318T180000
DTEND;TZID=Europe/Berlin:20260318T211500
UID:Y1227D-20260318T180000@VHSRATINGEN
SUMMARY:Alphabetisierungskurs, 4. Modul (Y1227D) 
LOCATION:VHS Poststraße, 208, Poststr. 23, 40878 Ratingen
END:VEVENT
BEGIN:VEVENT
DTSTAMP:20260423T105141
DTSTART;TZID=Europe/Berlin:20260323T180000
DTEND;TZID=Europe/Berlin:20260323T211500
UID:Y1227D-20260323T180000@VHSRATINGEN
SUMMARY:Alphabetisierungskurs, 4. Modul (Y1227D) 
LOCATION:VHS Poststraße, 208, Poststr. 23, 40878 Ratingen
END:VEVENT
BEGIN:VEVENT
DTSTAMP:20260423T105141
DTSTART;TZID=Europe/Berlin:20260324T180000
DTEND;TZID=Europe/Berlin:20260324T211500
UID:Y1227D-20260324T180000@VHSRATINGEN
SUMMARY:Alphabetisierungskurs, 4. Modul (Y1227D) 
LOCATION:VHS Poststraße, 208, Poststr. 23, 40878 Ratingen
END:VEVENT
BEGIN:VEVENT
DTSTAMP:20260423T105141
DTSTART;TZID=Europe/Berlin:20260325T180000
DTEND;TZID=Europe/Berlin:20260325T211500
UID:Y1227D-20260325T180000@VHSRATINGEN
SUMMARY:Alphabetisierungskurs, 4. Modul (Y1227D) 
LOCATION:VHS Poststraße, 208, Poststr. 23, 40878 Ratingen
END:VEVENT
BEGIN:VEVENT
DTSTAMP:20260423T105141
DTSTART;TZID=Europe/Berlin:20260326T180000
DTEND;TZID=Europe/Berlin:20260326T211500
UID:Y1227D-20260326T180000@VHSRATINGEN
SUMMARY:Alphabetisierungskurs, 4. Modul (Y1227D) 
LOCATION:VHS Poststraße, 208, Poststr. 23, 40878 Ratingen
END:VEVENT
BEGIN:VEVENT
DTSTAMP:20260423T105141
DTSTART;TZID=Europe/Berlin:20260413T180000
DTEND;TZID=Europe/Berlin:20260413T211500
UID:Y1227D-20260413T180000@VHSRATINGEN
SUMMARY:Alphabetisierungskurs, 4. Modul (Y1227D) 
LOCATION:VHS Poststraße, 208, Poststr. 23, 40878 Ratingen
END:VEVENT
BEGIN:VEVENT
DTSTAMP:20260423T105141
DTSTART;TZID=Europe/Berlin:20260414T180000
DTEND;TZID=Europe/Berlin:20260414T211500
UID:Y1227D-20260414T180000@VHSRATINGEN
SUMMARY:Alphabetisierungskurs, 4. Modul (Y1227D) 
LOCATION:VHS Poststraße, 208, Poststr. 23, 40878 Ratingen
END:VEVENT
BEGIN:VEVENT
DTSTAMP:20260423T105141
DTSTART;TZID=Europe/Berlin:20260415T180000
DTEND;TZID=Europe/Berlin:20260415T211500
UID:Y1227D-20260415T180000@VHSRATINGEN
SUMMARY:Alphabetisierungskurs, 4. Modul (Y1227D) 
LOCATION:VHS Poststraße, 208, Poststr. 23, 40878 Ratingen
END:VEVENT
BEGIN:VEVENT
DTSTAMP:20260423T105141
DTSTART;TZID=Europe/Berlin:20260416T180000
DTEND;TZID=Europe/Berlin:20260416T211500
UID:Y1227D-20260416T180000@VHSRATINGEN
SUMMARY:Alphabetisierungskurs, 4. Modul (Y1227D) 
LOCATION:VHS Poststraße, 208, Poststr. 23, 40878 Ratingen
END:VEVENT
BEGIN:VEVENT
DTSTAMP:20260423T105141
DTSTART;TZID=Europe/Berlin:20260420T180000
DTEND;TZID=Europe/Berlin:20260420T211500
UID:Y1227D-20260420T180000@VHSRATINGEN
SUMMARY:Alphabetisierungskurs, 4. Modul (Y1227D) 
LOCATION:VHS Poststraße, 208, Poststr. 23, 40878 Ratingen
END:VEVENT
BEGIN:VEVENT
DTSTAMP:20260423T105141
DTSTART;TZID=Europe/Berlin:20260421T180000
DTEND;TZID=Europe/Berlin:20260421T211500
UID:Y1227D-20260421T180000@VHSRATINGEN
SUMMARY:Alphabetisierungskurs, 4. Modul (Y1227D) 
LOCATION:VHS Poststraße, 208, Poststr. 23, 40878 Ratingen
END:VEVENT
BEGIN:VEVENT
DTSTAMP:20260423T105141
DTSTART;TZID=Europe/Berlin:20260422T180000
DTEND;TZID=Europe/Berlin:20260422T211500
UID:Y1227D-20260422T180000@VHSRATINGEN
SUMMARY:Alphabetisierungskurs, 4. Modul (Y1227D) 
LOCATION:VHS Poststraße, 208, Poststr. 23, 40878 Ratingen
END:VEVENT
BEGIN:VEVENT
DTSTAMP:20260423T105141
DTSTART;TZID=Europe/Berlin:20260423T180000
DTEND;TZID=Europe/Berlin:20260423T211500
UID:Y1227D-20260423T180000@VHSRATINGEN
SUMMARY:Alphabetisierungskurs, 4. Modul (Y1227D) 
LOCATION:VHS Poststraße, 208, Poststr. 23, 40878 Ratingen
END:VEVENT
BEGIN:VEVENT
DTSTAMP:20260423T105141
DTSTART;TZID=Europe/Berlin:20260427T180000
DTEND;TZID=Europe/Berlin:20260427T211500
UID:Y1227D-20260427T180000@VHSRATINGEN
SUMMARY:Alphabetisierungskurs, 4. Modul (Y1227D) 
LOCATION:VHS Poststraße, 208, Poststr. 23, 40878 Ratingen
END:VEVENT
BEGIN:VEVENT
DTSTAMP:20260423T105141
DTSTART;TZID=Europe/Berlin:20260428T180000
DTEND;TZID=Europe/Berlin:20260428T211500
UID:Y1227D-20260428T180000@VHSRATINGEN
SUMMARY:Alphabetisierungskurs, 4. Modul (Y1227D) 
LOCATION:VHS Poststraße, 208, Poststr. 23, 40878 Ratingen
END:VEVENT
BEGIN:VEVENT
DTSTAMP:20260423T105141
DTSTART;TZID=Europe/Berlin:20260429T180000
DTEND;TZID=Europe/Berlin:20260429T211500
UID:Y1227D-20260429T180000@VHSRATINGEN
SUMMARY:Alphabetisierungskurs, 4. Modul (Y1227D) 
LOCATION:VHS Poststraße, 208, Poststr. 23, 40878 Ratingen
END:VEVENT
BEGIN:VEVENT
DTSTAMP:20260423T105141
DTSTART;TZID=Europe/Berlin:20260430T180000
DTEND;TZID=Europe/Berlin:20260430T211500
UID:Y1227D-20260430T180000@VHSRATINGEN
SUMMARY:Alphabetisierungskurs, 4. Modul (Y1227D) 
LOCATION:VHS Poststraße, 208, Poststr. 23, 40878 Ratingen
END:VEVENT
BEGIN:VEVENT
DTSTAMP:20260423T105141
DTSTART;TZID=Europe/Berlin:20260504T180000
DTEND;TZID=Europe/Berlin:20260504T211500
UID:Y1227D-20260504T180000@VHSRATINGEN
SUMMARY:Alphabetisierungskurs, 4. Modul (Y1227D) 
LOCATION:VHS Poststraße, 208, Poststr. 23, 40878 Ratingen
END:VEVENT
BEGIN:VEVENT
DTSTAMP:20260423T105141
DTSTART;TZID=Europe/Berlin:20260505T180000
DTEND;TZID=Europe/Berlin:20260505T211500
UID:Y1227D-20260505T180000@VHSRATINGEN
SUMMARY:Alphabetisierungskurs, 4. Modul (Y1227D) 
LOCATION:VHS Poststraße, 208, Poststr. 23, 40878 Ratingen
END:VEVENT
BEGIN:VEVENT
DTSTAMP:20260423T105141
DTSTART;TZID=Europe/Berlin:20260506T180000
DTEND;TZID=Europe/Berlin:20260506T211500
UID:Y1227D-20260506T180000@VHSRATINGEN
SUMMARY:Alphabetisierungskurs, 4. Modul (Y1227D) 
LOCATION:VHS Poststraße, 208, Poststr. 23, 40878 Ratingen
END:VEVENT
BEGIN:VEVENT
DTSTAMP:20260423T105141
DTSTART;TZID=Europe/Berlin:20260507T180000
DTEND;TZID=Europe/Berlin:20260507T211500
UID:Y1227D-20260507T180000@VHSRATINGEN
SUMMARY:Alphabetisierungskurs, 4. Modul (Y1227D) 
LOCATION:VHS Poststraße, 208, Poststr. 23, 40878 Ratingen
END:VEVENT
BEGIN:VEVENT
DTSTAMP:20260423T105141
DTSTART;TZID=Europe/Berlin:20260511T180000
DTEND;TZID=Europe/Berlin:20260511T211500
UID:Y1227D-20260511T180000@VHSRATINGEN
SUMMARY:Alphabetisierungskurs, 4. Modul (Y1227D) 
LOCATION:VHS Poststraße, 208, Poststr. 23, 40878 Ratingen
END:VEVENT
BEGIN:VEVENT
DTSTAMP:20260423T105141
DTSTART;TZID=Europe/Berlin:20260512T180000
DTEND;TZID=Europe/Berlin:20260512T211500
UID:Y1227D-20260512T180000@VHSRATINGEN
DESCRIPTION:NHT f.d. 19.03.26
SUMMARY:Alphabetisierungskurs, 4. Modul (Y1227D) 
LOCATION:VHS Poststraße, 208, Poststr. 23, 40878 Ratingen
END:VEVENT
END:VCALENDAR