BEGIN:VCALENDAR
VERSION:2.0
PRODID:https://www.kufer.de/kuferweb / DE
METHOD:PUBLISH
CALSCALE:GREGORIAN
X-WR-TIMEZONE:Europe/Berlin
BEGIN:VTIMEZONE
TZID:Europe/Berlin
X-LIC-LOCATION:Europe/Berlin
BEGIN:DAYLIGHT
TZOFFSETFROM:+0100
TZOFFSETTO:+0200
TZNAME:CEST
DTSTART:19700329T020000
RRULE:FREQ=YEARLY;INTERVAL=1;BYDAY=-1SU;BYMONTH=3
END:DAYLIGHT
BEGIN:STANDARD
TZOFFSETFROM:+0200
TZOFFSETTO:+0100
TZNAME:CET
DTSTART:19701025T030000
RRULE:FREQ=YEARLY;INTERVAL=1;BYDAY=-1SU;BYMONTH=10
END:STANDARD
END:VTIMEZONE
BEGIN:VEVENT
DTSTAMP:20260420T060918
DTSTART;TZID=Europe/Berlin:20260629T090000
DTEND;TZID=Europe/Berlin:20260629T163000
UID:Y0148-20260629T090000@VHSRATINGEN
SUMMARY:MS 365 – smarte Workflows in Unternehmen (BU*/Intensivseminar)    Zusammenarbeit mit Teams, SharePoint und Planner (Y0148) 
LOCATION:ZOOM
END:VEVENT
BEGIN:VEVENT
DTSTAMP:20260420T060918
DTSTART;TZID=Europe/Berlin:20260630T090000
DTEND;TZID=Europe/Berlin:20260630T163000
UID:Y0148-20260630T090000@VHSRATINGEN
SUMMARY:MS 365 – smarte Workflows in Unternehmen (BU*/Intensivseminar)    Zusammenarbeit mit Teams, SharePoint und Planner (Y0148) 
LOCATION:ZOOM
END:VEVENT
BEGIN:VEVENT
DTSTAMP:20260420T060918
DTSTART;TZID=Europe/Berlin:20260701T090000
DTEND;TZID=Europe/Berlin:20260701T163000
UID:Y0148-20260701T090000@VHSRATINGEN
SUMMARY:MS 365 – smarte Workflows in Unternehmen (BU*/Intensivseminar)    Zusammenarbeit mit Teams, SharePoint und Planner (Y0148) 
LOCATION:ZOOM
END:VEVENT
BEGIN:VEVENT
DTSTAMP:20260420T060918
DTSTART;TZID=Europe/Berlin:20260702T090000
DTEND;TZID=Europe/Berlin:20260702T163000
UID:Y0148-20260702T090000@VHSRATINGEN
SUMMARY:MS 365 – smarte Workflows in Unternehmen (BU*/Intensivseminar)    Zusammenarbeit mit Teams, SharePoint und Planner (Y0148) 
LOCATION:ZOOM
END:VEVENT
BEGIN:VEVENT
DTSTAMP:20260420T060918
DTSTART;TZID=Europe/Berlin:20260703T090000
DTEND;TZID=Europe/Berlin:20260703T163000
UID:Y0148-20260703T090000@VHSRATINGEN
SUMMARY:MS 365 – smarte Workflows in Unternehmen (BU*/Intensivseminar)    Zusammenarbeit mit Teams, SharePoint und Planner (Y0148) 
LOCATION:ZOOM
END:VEVENT
END:VCALENDAR